BEGIN:VCALENDAR
VERSION:2.0
PRODID:-//Department Of Education//2c9e688b-e9f9-4d22-9067-de16256bed41
BEGIN:VTIMEZONE
TZID:Australia/Sydney
TZURL:http://tzurl.org/zoneinfo-outlook/Australia/Sydney
X-LIC-LOCATION:Australia/Sydney
BEGIN:STANDARD
TZOFFSETFROM:+1100
TZOFFSETTO:+1000
TZNAME:AEST
DTSTART:19700405T030000
RRULE:FREQ=YEARLY;BYMONTH=4;BYDAY=1SU
END:STANDARD
BEGIN:DAYLIGHT
TZOFFSETFROM:+1000
TZOFFSETTO:+1100
TZNAME:AEDT
DTSTART:19701004T020000
RRULE:FREQ=YEARLY;BYMONTH=10;BYDAY=1SU
END:DAYLIGHT
END:VTIMEZONE
CALSCALE:GREGORIAN
X-WR-TIMEZONE:Australia/Sydney
BEGIN:VEVENT
DTSTART;VALUE=DATE:20200428
DTEND;VALUE=DATE:20200429
DTSTAMP:20200428T000000Z
UID:a396c338-8b68-404c-9767-30b8fb143d69
LOCATION:School
SUMMARY;LANGUAGE=en-us:First Day for Students
SEQUENCE:0
DESCRIPTION:First day back second term
END:VEVENT
TRANSP:TRANSPARENT
END:VCALENDAR
