BEGIN:VCALENDAR
VERSION:2.0
PRODID:-//Department Of Education//397a51b6-c406-4966-8f27-cf4a3e07eea0
BEGIN:VTIMEZONE
TZID:Australia/Sydney
TZURL:http://tzurl.org/zoneinfo-outlook/Australia/Sydney
X-LIC-LOCATION:Australia/Sydney
BEGIN:STANDARD
TZOFFSETFROM:+1100
TZOFFSETTO:+1000
TZNAME:AEST
DTSTART:19700405T030000
RRULE:FREQ=YEARLY;BYMONTH=4;BYDAY=1SU
END:STANDARD
BEGIN:DAYLIGHT
TZOFFSETFROM:+1000
TZOFFSETTO:+1100
TZNAME:AEDT
DTSTART:19701004T020000
RRULE:FREQ=YEARLY;BYMONTH=10;BYDAY=1SU
END:DAYLIGHT
END:VTIMEZONE
CALSCALE:GREGORIAN
X-WR-TIMEZONE:Australia/Sydney
BEGIN:VEVENT
DTSTART;VALUE=DATE:20200721
DTEND;VALUE=DATE:20200722
DTSTAMP:20200721T000000Z
UID:9fb57c53-3917-4f8c-b604-fcfcbb227686
LOCATION:School
SUMMARY;LANGUAGE=en-us:First day for students
SEQUENCE:0
DESCRIPTION:First day back for students in Term 3
END:VEVENT
TRANSP:TRANSPARENT
END:VCALENDAR
