BEGIN:VCALENDAR
VERSION:2.0
PRODID:-//Department Of Education//ca700b79-1e63-45ac-b8db-a29285adbaf9
BEGIN:VTIMEZONE
TZID:Australia/Sydney
TZURL:http://tzurl.org/zoneinfo-outlook/Australia/Sydney
X-LIC-LOCATION:Australia/Sydney
BEGIN:STANDARD
TZOFFSETFROM:+1100
TZOFFSETTO:+1000
TZNAME:AEST
DTSTART:19700405T030000
RRULE:FREQ=YEARLY;BYMONTH=4;BYDAY=1SU
END:STANDARD
BEGIN:DAYLIGHT
TZOFFSETFROM:+1000
TZOFFSETTO:+1100
TZNAME:AEDT
DTSTART:19701004T020000
RRULE:FREQ=YEARLY;BYMONTH=10;BYDAY=1SU
END:DAYLIGHT
END:VTIMEZONE
CALSCALE:GREGORIAN
X-WR-TIMEZONE:Australia/Sydney
BEGIN:VEVENT
DTSTART;VALUE=DATE:20201012
DTEND;VALUE=DATE:20201013
DTSTAMP:20201012T000000Z
UID:33e58c4f-d8b8-489d-be8b-36c55c92956c
LOCATION:School
SUMMARY;LANGUAGE=en-us:First day for students
SEQUENCE:0
DESCRIPTION:First day for students
END:VEVENT
TRANSP:TRANSPARENT
END:VCALENDAR
