BEGIN:VCALENDAR
VERSION:2.0
PRODID:-//Department Of Education//7a56c7bb-cfbe-4a2a-9fb5-6fa39d73b6e9
BEGIN:VTIMEZONE
TZID:Australia/Sydney
TZURL:http://tzurl.org/zoneinfo-outlook/Australia/Sydney
X-LIC-LOCATION:Australia/Sydney
BEGIN:STANDARD
TZOFFSETFROM:+1100
TZOFFSETTO:+1000
TZNAME:AEST
DTSTART:19700405T030000
RRULE:FREQ=YEARLY;BYMONTH=4;BYDAY=1SU
END:STANDARD
BEGIN:DAYLIGHT
TZOFFSETFROM:+1000
TZOFFSETTO:+1100
TZNAME:AEDT
DTSTART:19701004T020000
RRULE:FREQ=YEARLY;BYMONTH=10;BYDAY=1SU
END:DAYLIGHT
END:VTIMEZONE
CALSCALE:GREGORIAN
X-WR-TIMEZONE:Australia/Sydney
BEGIN:VEVENT
DTSTART;VALUE=DATE:20201216
DTEND;VALUE=DATE:20201217
DTSTAMP:20201216T000000Z
UID:d03fafd6-0db0-4d01-9d3e-7c576946f161
LOCATION:School
SUMMARY;LANGUAGE=en-us:Last day for students
SEQUENCE:0
DESCRIPTION:Last day for students in Term 4
END:VEVENT
TRANSP:TRANSPARENT
END:VCALENDAR
