BEGIN:VCALENDAR
VERSION:2.0
PRODID:-//Department Of Education//394b1068-446e-4b30-84a7-78a436b529ce
BEGIN:VTIMEZONE
TZID:Australia/Sydney
TZURL:http://tzurl.org/zoneinfo-outlook/Australia/Sydney
X-LIC-LOCATION:Australia/Sydney
BEGIN:STANDARD
TZOFFSETFROM:+1100
TZOFFSETTO:+1000
TZNAME:AEST
DTSTART:19700405T030000
RRULE:FREQ=YEARLY;BYMONTH=4;BYDAY=1SU
END:STANDARD
BEGIN:DAYLIGHT
TZOFFSETFROM:+1000
TZOFFSETTO:+1100
TZNAME:AEDT
DTSTART:19701004T020000
RRULE:FREQ=YEARLY;BYMONTH=10;BYDAY=1SU
END:DAYLIGHT
END:VTIMEZONE
CALSCALE:GREGORIAN
X-WR-TIMEZONE:Australia/Sydney
BEGIN:VEVENT
DTSTART;VALUE=DATE:20200427
DTEND;VALUE=DATE:20200428
DTSTAMP:20200427T000000Z
UID:2fc65655-1dbf-441c-9820-6620d28abda1
LOCATION:School
SUMMARY;LANGUAGE=en-us:Staff Development Day
SEQUENCE:0
DESCRIPTION:SDD
END:VEVENT
TRANSP:TRANSPARENT
END:VCALENDAR
