BEGIN:VCALENDAR
VERSION:2.0
PRODID:-//Department Of Education//4fb48571-589c-4fe9-bad6-4277301ab680
BEGIN:VTIMEZONE
TZID:Australia/Sydney
TZURL:http://tzurl.org/zoneinfo-outlook/Australia/Sydney
X-LIC-LOCATION:Australia/Sydney
BEGIN:STANDARD
TZOFFSETFROM:+1100
TZOFFSETTO:+1000
TZNAME:AEST
DTSTART:19700405T030000
RRULE:FREQ=YEARLY;BYMONTH=4;BYDAY=1SU
END:STANDARD
BEGIN:DAYLIGHT
TZOFFSETFROM:+1000
TZOFFSETTO:+1100
TZNAME:AEDT
DTSTART:19701004T020000
RRULE:FREQ=YEARLY;BYMONTH=10;BYDAY=1SU
END:DAYLIGHT
END:VTIMEZONE
CALSCALE:GREGORIAN
X-WR-TIMEZONE:Australia/Sydney
BEGIN:VEVENT
DTSTART;VALUE=DATE:20200720
DTEND;VALUE=DATE:20200721
DTSTAMP:20200720T000000Z
UID:d117632c-d9cc-49a5-a8da-7002803388d8
LOCATION:School
SUMMARY;LANGUAGE=en-us:Staff Development Day
SEQUENCE:0
DESCRIPTION:SDD
END:VEVENT
TRANSP:TRANSPARENT
END:VCALENDAR
